BEGIN:VCALENDAR
VERSION:2.0
PRODID:spatie/icalendar-generator
DESCRIPTION:Veranstaltungen von Geflügelzuchtverein Bingenheim 1938
X-WR-CALDESC:Veranstaltungen von Geflügelzuchtverein Bingenheim 1938
REFRESH-INTERVAL;VALUE=DURATION:PT1440M
X-PUBLISHED-TTL:PT1440M
BEGIN:VTIMEZONE
TZID:Europe/Berlin
BEGIN:STANDARD
DTSTART:20241027T030000Z
TZOFFSETFROM:+0200
TZOFFSETTO:+0100
END:STANDARD
BEGIN:DAYLIGHT
DTSTART:20250330T020000Z
TZOFFSETFROM:+0100
TZOFFSETTO:+0200
END:DAYLIGHT
BEGIN:STANDARD
DTSTART:20251026T030000Z
TZOFFSETFROM:+0200
TZOFFSETTO:+0100
END:STANDARD
END:VTIMEZONE
BEGIN:VTIMEZONE
TZID:UTC
BEGIN:STANDARD
DTSTART:20250728T020106Z
TZOFFSETFROM:+0000
TZOFFSETTO:+0000
END:STANDARD
END:VTIMEZONE
BEGIN:VEVENT
UID:17-12
DTSTAMP:20260424T020106Z
SUMMARY:75 Jahre Lebensgemeinschaft Bingenheim
LOCATION:
ORGANIZER;CN=Gunter:MAILTO:gk@skyrocket.de
DTSTART;TZID=Europe/Berlin;VALUE=DATE:20250628
DTEND;TZID=Europe/Berlin;VALUE=DATE:20250629
X-ALT-DESC;FMTTYPE=TEXT/HTML:<p>Gelände Lebensgemeinschaft Bingenheim</p>\
 n
CATEGORIES:Externe Veranstaltung mit Vereinsbeteiligung
URL;VALUE=URI:https://gzv-bingenheim.de/mc-events/75-jahre-lebensgemeinscha
 ft-bingenheim/
METHOD:PUBLISH
END:VEVENT
END:VCALENDAR