BEGIN:VCALENDAR
VERSION:2.0
PRODID:spatie/icalendar-generator
DESCRIPTION:Veranstaltungen von Geflügelzuchtverein Bingenheim 1938
X-WR-CALDESC:Veranstaltungen von Geflügelzuchtverein Bingenheim 1938
REFRESH-INTERVAL;VALUE=DURATION:PT1440M
X-PUBLISHED-TTL:PT1440M
BEGIN:VTIMEZONE
TZID:Europe/Berlin
BEGIN:DAYLIGHT
DTSTART:20250330T020000Z
TZOFFSETFROM:+0100
TZOFFSETTO:+0200
END:DAYLIGHT
BEGIN:STANDARD
DTSTART:20251026T030000Z
TZOFFSETFROM:+0200
TZOFFSETTO:+0100
END:STANDARD
BEGIN:DAYLIGHT
DTSTART:20260329T020000Z
TZOFFSETFROM:+0100
TZOFFSETTO:+0200
END:DAYLIGHT
END:VTIMEZONE
BEGIN:VTIMEZONE
TZID:UTC
BEGIN:STANDARD
DTSTART:20250723T204928Z
TZOFFSETFROM:+0000
TZOFFSETTO:+0000
END:STANDARD
END:VTIMEZONE
BEGIN:VEVENT
UID:25-17
DTSTAMP:20260419T204928Z
SUMMARY:Lokalschau GZV Bingenheim
LOCATION:
ORGANIZER;CN=Gunter:MAILTO:gk@skyrocket.de
DTSTART;TZID=Europe/Berlin:20251012T100000
DTEND;TZID=Europe/Berlin:20251012T160000
X-ALT-DESC;FMTTYPE=TEXT/HTML:<p>Bürgerhaus Bingenheim</p>\n
CATEGORIES:Ausstellung
URL;VALUE=URI:https://gzv-bingenheim.de/mc-events/lokalschau-gzv-bingenheim
 -2/
METHOD:PUBLISH
END:VEVENT
END:VCALENDAR